BEGIN:VCALENDAR
VERSION:2.0
PRODID:-//saundersmedicalcenter.com//NONSGML kigkonsult.se iCalcreator 2.30
 .10//
CALSCALE:GREGORIAN
METHOD:PUBLISH
UID:b8761525-3486-4320-8dab-7014aa372a0d
X-WR-CALDESC:Network with other Seniors in our surrounding Communities!\nTh
 e Seniors Connect gathering is at SMC on the 3rd Tuesday of each month at 
 8:15 a.m. Join us for coffee\, morning treats and good company! Learn abou
 t resources\, community events\, activities and more.
X-WR-RELCALID:d03d88f1bc59b6f6a0f95eeb8bc21e91
X-WR-TIMEZONE:America/Chicago
BEGIN:VTIMEZONE
TZID:America/Chicago
BEGIN:STANDARD
TZNAME:CST
DTSTART:20261101T020000
TZOFFSETFROM:-0500
TZOFFSETTO:-0600
RDATE:20271107T020000
END:STANDARD
BEGIN:DAYLIGHT
TZNAME:CDT
DTSTART:20260308T020000
TZOFFSETFROM:-0600
TZOFFSETTO:-0500
RDATE:20270314T020000
RDATE:20280312T020000
END:DAYLIGHT
END:VTIMEZONE
BEGIN:VEVENT
UID:9aeca2a1-f848-4b2f-ac2b-0f440040f1b5
DTSTAMP:20260422T040552Z
DESCRIPTION:Network with other Seniors in our surrounding Communities!\nThe
  Seniors Connect gathering is at SMC on the 3rd Tuesday of each month at 8
 :15 a.m. Join us for coffee\, morning treats and good company! Learn about
  resources\, community events\, activities and more.
DTSTART;TZID=America/Chicago:20270216T081500
DTEND;TZID=America/Chicago:20270216T091500
LOCATION:1760 County Road J\, Wahoo\, NE 68066 US
SUMMARY:Senior Connect
END:VEVENT
END:VCALENDAR
