BEGIN:VCALENDAR
VERSION:2.0
PRODID:-//saundersmedicalcenter.com//NONSGML kigkonsult.se iCalcreator 2.30
 .10//
CALSCALE:GREGORIAN
METHOD:PUBLISH
UID:d4d410ce-c321-4c30-8c40-55561656cce0
X-WR-CALDESC:Network with other Seniors in our surrounding Communities!\nTh
 e Seniors Connect gathering is at SMC on the 3rd Tuesday of each month at 
 8:15 a.m. Join us for coffee\, morning treats and good company! Learn abou
 t resources\, community events\, activities and more.
X-WR-RELCALID:6ec9424400cc43fc062d6a1f00c52703
X-WR-TIMEZONE:America/Chicago
BEGIN:VTIMEZONE
TZID:America/Chicago
BEGIN:STANDARD
TZNAME:CST
DTSTART:20251102T020000
TZOFFSETFROM:-0500
TZOFFSETTO:-0600
RDATE:20261101T020000
RDATE:20271107T020000
END:STANDARD
BEGIN:DAYLIGHT
TZNAME:CDT
DTSTART:20260308T020000
TZOFFSETFROM:-0600
TZOFFSETTO:-0500
RDATE:20270314T020000
RDATE:20280312T020000
END:DAYLIGHT
END:VTIMEZONE
BEGIN:VEVENT
UID:f41e77b8-50eb-47ac-8670-45871cf79c8d
DTSTAMP:20260421T202125Z
DESCRIPTION:Network with other Seniors in our surrounding Communities!\nThe
  Seniors Connect gathering is at SMC on the 3rd Tuesday of each month at 8
 :15 a.m. Join us for coffee\, morning treats and good company! Learn about
  resources\, community events\, activities and more.
DTSTART;TZID=America/Chicago:20260915T081500
DTEND;TZID=America/Chicago:20260915T091500
LOCATION:1760 County Road J\, Wahoo\, NE 68066 US
SUMMARY:Senior Connect
END:VEVENT
END:VCALENDAR
