BEGIN:VCALENDAR
VERSION:2.0
PRODID:-//saundersmedicalcenter.com//NONSGML kigkonsult.se iCalcreator 2.30
 .10//
CALSCALE:GREGORIAN
METHOD:PUBLISH
UID:9a415232-0111-41b3-9b46-051747906e19
X-WR-CALDESC:Network with other Seniors in our surrounding Communities!\nTh
 e Seniors Connect gathering is at SMC on the 3rd Tuesday of each month at 
 8:15 a.m. Join us for coffee\, morning treats and good company! Learn abou
 t resources\, community events\, activities and more.
X-WR-RELCALID:49115f0cad853a24dbb5d788537447aa
X-WR-TIMEZONE:America/Chicago
BEGIN:VTIMEZONE
TZID:America/Chicago
BEGIN:STANDARD
TZNAME:CST
DTSTART:20251102T020000
TZOFFSETFROM:-0500
TZOFFSETTO:-0600
RDATE:20261101T020000
END:STANDARD
BEGIN:DAYLIGHT
TZNAME:CDT
DTSTART:20250309T020000
TZOFFSETFROM:-0600
TZOFFSETTO:-0500
RDATE:20260308T020000
RDATE:20270314T020000
END:DAYLIGHT
END:VTIMEZONE
BEGIN:VEVENT
UID:fd4bd5a6-460f-4ce7-baf1-644b3091fbe9
DTSTAMP:20260421T202035Z
DESCRIPTION:Network with other Seniors in our surrounding Communities!\nThe
  Seniors Connect gathering is at SMC on the 3rd Tuesday of each month at 8
 :15 a.m. Join us for coffee\, morning treats and good company! Learn about
  resources\, community events\, activities and more.
DTSTART;TZID=America/Chicago:20251118T081500
DTEND;TZID=America/Chicago:20251118T091500
LOCATION:1760 County Road J\, Wahoo\, NE 68066 US
SUMMARY:Senior Connect
END:VEVENT
END:VCALENDAR
