BEGIN:VCALENDAR
VERSION:2.0
PRODID:-//saundersmedicalcenter.com//NONSGML kigkonsult.se iCalcreator 2.30
 .10//
CALSCALE:GREGORIAN
METHOD:PUBLISH
UID:3804c07e-7d10-4ab8-b64c-29c60f195bc2
X-WR-CALDESC:
X-WR-RELCALID:121e8f5e05d019fe0b28a45d5db4696c
X-WR-TIMEZONE:America/Chicago
BEGIN:VTIMEZONE
TZID:America/Chicago
BEGIN:STANDARD
TZNAME:CST
DTSTART:20191103T020000
TZOFFSETFROM:-0500
TZOFFSETTO:-0600
RDATE:20201101T020000
RDATE:20211107T020000
END:STANDARD
BEGIN:DAYLIGHT
TZNAME:CDT
DTSTART:20200308T020000
TZOFFSETFROM:-0600
TZOFFSETTO:-0500
RDATE:20210314T020000
END:DAYLIGHT
END:VTIMEZONE
BEGIN:VEVENT
UID:8e23c6d3-36cc-448a-8f21-411690364866
DTSTAMP:20260420T144125Z
DESCRIPTION:
DTSTART;TZID=America/Chicago:20200622T100000
DTEND;TZID=America/Chicago:20200622T110000
LOCATION:
SUMMARY:Diabetes Education by Certified Diabetic Educator
END:VEVENT
END:VCALENDAR
