BEGIN:VCALENDAR
VERSION:2.0
PRODID:-//saundersmedicalcenter.com//NONSGML kigkonsult.se iCalcreator 2.30
 .10//
CALSCALE:GREGORIAN
METHOD:PUBLISH
UID:5fdac32e-8563-44ef-9ce4-ff6c11f64749
X-WR-CALDESC:
X-WR-RELCALID:b2592d673d55348a788427d9fc5f3e54
X-WR-TIMEZONE:America/Chicago
BEGIN:VTIMEZONE
TZID:America/Chicago
BEGIN:STANDARD
TZNAME:CST
DTSTART:20191103T020000
TZOFFSETFROM:-0500
TZOFFSETTO:-0600
RDATE:20201101T020000
END:STANDARD
BEGIN:DAYLIGHT
TZNAME:CDT
DTSTART:20190310T020000
TZOFFSETFROM:-0600
TZOFFSETTO:-0500
RDATE:20200308T020000
RDATE:20210314T020000
END:DAYLIGHT
END:VTIMEZONE
BEGIN:VEVENT
UID:4a2ffa24-5fb5-4c3f-9ca3-5c935e5e6898
DTSTAMP:20260420T164835Z
DESCRIPTION:
DTSTART;TZID=America/Chicago:20200224T100000
DTEND;TZID=America/Chicago:20200224T110000
LOCATION:
SUMMARY:Diabetes Education by Certified Diabetic Educator
END:VEVENT
END:VCALENDAR
