BEGIN:VCALENDAR
VERSION:2.0
PRODID:-//saundersmedicalcenter.com//NONSGML kigkonsult.se iCalcreator 2.30
 .10//
CALSCALE:GREGORIAN
METHOD:PUBLISH
UID:77150eb4-db1b-4a2f-8d0c-c9a6adc78d85
X-WR-CALDESC:
X-WR-RELCALID:47647ac7674a8a0aff69d05f54f4abf6
X-WR-TIMEZONE:America/Chicago
BEGIN:VTIMEZONE
TZID:America/Chicago
BEGIN:STANDARD
TZNAME:CST
DTSTART:20191103T020000
TZOFFSETFROM:-0500
TZOFFSETTO:-0600
RDATE:20201101T020000
END:STANDARD
BEGIN:DAYLIGHT
TZNAME:CDT
DTSTART:20190310T020000
TZOFFSETFROM:-0600
TZOFFSETTO:-0500
RDATE:20200308T020000
RDATE:20210314T020000
END:DAYLIGHT
END:VTIMEZONE
BEGIN:VEVENT
UID:896b06ed-0ec9-4753-a324-7d9e679f9e6e
DTSTAMP:20260420T195841Z
DESCRIPTION:
DTSTART;TZID=America/Chicago:20191208T140000
DTEND;TZID=America/Chicago:20191208T160000
LOCATION:
SUMMARY:Santa Sighting | Saunders Medical Center Auxiliary
END:VEVENT
END:VCALENDAR
