BEGIN:VCALENDAR
VERSION:2.0
PRODID:-//saundersmedicalcenter.com//NONSGML kigkonsult.se iCalcreator 2.30
 .10//
CALSCALE:GREGORIAN
METHOD:PUBLISH
UID:19395291-4468-4d30-8f19-a8a8bae83753
X-WR-CALDESC:Limited Seats! Purchase tickets by November 30!
X-WR-RELCALID:e79dfb44392bbe35fd0a989b4520588c
X-WR-TIMEZONE:America/Chicago
BEGIN:VTIMEZONE
TZID:America/Chicago
BEGIN:STANDARD
TZNAME:CST
DTSTART:20191103T020000
TZOFFSETFROM:-0500
TZOFFSETTO:-0600
RDATE:20201101T020000
END:STANDARD
BEGIN:DAYLIGHT
TZNAME:CDT
DTSTART:20190310T020000
TZOFFSETFROM:-0600
TZOFFSETTO:-0500
RDATE:20200308T020000
RDATE:20210314T020000
END:DAYLIGHT
END:VTIMEZONE
BEGIN:VEVENT
UID:1829f97e-9dd4-4254-890c-068a8a3d9d39
DTSTAMP:20260420T201058Z
DESCRIPTION:Limited Seats! Purchase tickets by November 30!
DTSTART;TZID=America/Chicago:20191206T170000
DTEND;TZID=America/Chicago:20191206T220000
LOCATION:
SUMMARY:Night of Lights | Bus Tour
END:VEVENT
END:VCALENDAR
