BEGIN:VCALENDAR
VERSION:2.0
PRODID:-//saundersmedicalcenter.com//NONSGML kigkonsult.se iCalcreator 2.30
 .10//
CALSCALE:GREGORIAN
METHOD:PUBLISH
UID:94ad7229-057d-422a-bea6-a177cc1b6249
X-WR-CALDESC:Monday\, November 18th\n10-11:30 AM\nSMC Hansen Room B\n\nTopi
 c of the Month \nAdvance \nDirectives\n\nLight refreshments will be provid
 ed!\n\nRSVP preferred to 402-443-1426 or email acmeyer@smcne.com.\nFeel fr
 ee to contact us with questions or future topic suggestions!\n\nLink below
  will be updated after each meeting!
X-WR-RELCALID:ed2d193cebc472cc1bc339cb399f4bb1
X-WR-TIMEZONE:America/Chicago
BEGIN:VTIMEZONE
TZID:America/Chicago
BEGIN:STANDARD
TZNAME:CST
DTSTART:20191103T020000
TZOFFSETFROM:-0500
TZOFFSETTO:-0600
RDATE:20201101T020000
END:STANDARD
BEGIN:DAYLIGHT
TZNAME:CDT
DTSTART:20190310T020000
TZOFFSETFROM:-0600
TZOFFSETTO:-0500
RDATE:20200308T020000
RDATE:20210314T020000
END:DAYLIGHT
END:VTIMEZONE
BEGIN:VEVENT
UID:a7e44f44-b410-4499-a603-653b637c7d86
DTSTAMP:20260420T212251Z
DESCRIPTION:Monday\, November 18th\n10-11:30 AM\nSMC Hansen Room B\n\nTopic
  of the Month \nAdvance \nDirectives\n\nLight refreshments will be provide
 d!\n\nRSVP preferred to 402-443-1426 or email acmeyer@smcne.com.\nFeel fre
 e to contact us with questions or future topic suggestions!\n\nLink below 
 will be updated after each meeting!
DTSTART;TZID=America/Chicago:20191118T100000
DTEND;TZID=America/Chicago:20191118T113000
LOCATION:
SUMMARY:Stroke Support Group | Advance Directives Featuring Dr. Newburn
END:VEVENT
END:VCALENDAR
