BEGIN:VCALENDAR
VERSION:2.0
PRODID:-//saundersmedicalcenter.com//NONSGML kigkonsult.se iCalcreator 2.30
 .10//
CALSCALE:GREGORIAN
METHOD:PUBLISH
UID:ab2dceed-6762-438c-ae7b-df74174f408a
X-WR-CALDESC:
X-WR-RELCALID:341d09cdea7f435c15fbd3be295f91a7
X-WR-TIMEZONE:America/Chicago
BEGIN:VTIMEZONE
TZID:America/Chicago
BEGIN:STANDARD
TZNAME:CST
DTSTART:20181104T020000
TZOFFSETFROM:-0500
TZOFFSETTO:-0600
RDATE:20191103T020000
RDATE:20201101T020000
END:STANDARD
BEGIN:DAYLIGHT
TZNAME:CDT
DTSTART:20190310T020000
TZOFFSETFROM:-0600
TZOFFSETTO:-0500
RDATE:20200308T020000
RDATE:20210314T020000
END:DAYLIGHT
END:VTIMEZONE
BEGIN:VEVENT
UID:0fdf3cb1-1633-4a3b-a924-2c545201a1a3
DTSTAMP:20260420T230346Z
DESCRIPTION:
DTSTART;TZID=America/Chicago:20191028T100000
DTEND;TZID=America/Chicago:20191028T110000
LOCATION:
SUMMARY:Diabetes Education by Certified Diabetic Educator
END:VEVENT
END:VCALENDAR
