BEGIN:VCALENDAR
VERSION:2.0
PRODID:-//saundersmedicalcenter.com//NONSGML kigkonsult.se iCalcreator 2.30
 .10//
CALSCALE:GREGORIAN
METHOD:PUBLISH
UID:d7f08e10-4927-43b9-a11c-91057279ec2c
X-WR-CALDESC:Thursday\, October 17th\n10-11:30 AM\nSMC Hansen Room B\n\nTop
 ic of the Month \nCoping with a New Normal\nfeatured speaker — Tammy Sassa
 man\, LCSW\n\nLight refreshments will be provided!\n\nRSVP preferred to 40
 2-443-1426 or email acmeyer@smcne.com.\nFeel free to contact us with quest
 ions or future topic suggestions!\n
X-WR-RELCALID:1598091e2f7c86e1d139ee502d674c9f
X-WR-TIMEZONE:America/Chicago
BEGIN:VTIMEZONE
TZID:America/Chicago
BEGIN:STANDARD
TZNAME:CST
DTSTART:20181104T020000
TZOFFSETFROM:-0500
TZOFFSETTO:-0600
RDATE:20191103T020000
RDATE:20201101T020000
END:STANDARD
BEGIN:DAYLIGHT
TZNAME:CDT
DTSTART:20190310T020000
TZOFFSETFROM:-0600
TZOFFSETTO:-0500
RDATE:20200308T020000
RDATE:20210314T020000
END:DAYLIGHT
END:VTIMEZONE
BEGIN:VEVENT
UID:6e49d62a-1c08-45bf-b48a-180b934626a8
DTSTAMP:20260420T225329Z
DESCRIPTION:Thursday\, October 17th\n10-11:30 AM\nSMC Hansen Room B\n\nTopi
 c of the Month \nCoping with a New Normal\nfeatured speaker — Tammy Sassam
 an\, LCSW\n\nLight refreshments will be provided!\n\nRSVP preferred to 402
 -443-1426 or email acmeyer@smcne.com.\nFeel free to contact us with questi
 ons or future topic suggestions!\n
DTSTART;TZID=America/Chicago:20191017T100000
DTEND;TZID=America/Chicago:20191017T113000
LOCATION:
SUMMARY:Stroke Support Group | Coping with a new normal | Featured speaker 
 Tammy Sassaman\, LCSW
END:VEVENT
END:VCALENDAR
