BEGIN:VCALENDAR
VERSION:2.0
PRODID:-//saundersmedicalcenter.com//NONSGML kigkonsult.se iCalcreator 2.30
 .10//
CALSCALE:GREGORIAN
METHOD:PUBLISH
UID:38880af1-4cf5-4df0-bf5d-9f2c814822d1
X-WR-CALDESC:
X-WR-RELCALID:91a93cbb0c6573bd93b796eb4e310e6a
X-WR-TIMEZONE:America/Chicago
BEGIN:VTIMEZONE
TZID:America/Chicago
BEGIN:STANDARD
TZNAME:CST
DTSTART:20181104T020000
TZOFFSETFROM:-0500
TZOFFSETTO:-0600
RDATE:20191103T020000
RDATE:20201101T020000
END:STANDARD
BEGIN:DAYLIGHT
TZNAME:CDT
DTSTART:20190310T020000
TZOFFSETFROM:-0600
TZOFFSETTO:-0500
RDATE:20200308T020000
RDATE:20210314T020000
END:DAYLIGHT
END:VTIMEZONE
BEGIN:VEVENT
UID:6d8504bf-fce9-4867-a13b-94f7342958c2
DTSTAMP:20260421T001556Z
DESCRIPTION:
DTSTART;TZID=America/Chicago:20190923T100000
DTEND;TZID=America/Chicago:20190923T110000
LOCATION:
SUMMARY:Diabetes Education by Certified Diabetic Educator
END:VEVENT
END:VCALENDAR
