BEGIN:VCALENDAR
VERSION:2.0
PRODID:-//saundersmedicalcenter.com//NONSGML kigkonsult.se iCalcreator 2.30
 .10//
CALSCALE:GREGORIAN
METHOD:PUBLISH
UID:40c3c551-28fd-4bd0-8472-00011ed70b89
X-WR-CALDESC:
X-WR-RELCALID:bf796309655026a57eec4a7dc0c3f0b9
X-WR-TIMEZONE:America/Chicago
BEGIN:VTIMEZONE
TZID:America/Chicago
BEGIN:STANDARD
TZNAME:CST
DTSTART:20181104T020000
TZOFFSETFROM:-0500
TZOFFSETTO:-0600
RDATE:20191103T020000
RDATE:20201101T020000
END:STANDARD
BEGIN:DAYLIGHT
TZNAME:CDT
DTSTART:20190310T020000
TZOFFSETFROM:-0600
TZOFFSETTO:-0500
RDATE:20200308T020000
END:DAYLIGHT
END:VTIMEZONE
BEGIN:VEVENT
UID:8a0fdb4b-9061-4380-9ad7-353a2d4b4705
DTSTAMP:20260421T015245Z
DESCRIPTION:
DTSTART;TZID=America/Chicago:20190826T100000
DTEND;TZID=America/Chicago:20190826T110000
LOCATION:
SUMMARY:Diabetes Education by Certified Diabetic Educator
END:VEVENT
END:VCALENDAR
