BEGIN:VCALENDAR
VERSION:2.0
PRODID:-//saundersmedicalcenter.com//NONSGML kigkonsult.se iCalcreator 2.30
 .10//
CALSCALE:GREGORIAN
METHOD:PUBLISH
UID:57fef572-eeea-4fbc-8284-1fbfc07351ec
X-WR-CALDESC:
X-WR-RELCALID:ac3aee56d91a36f4b6c6811def1e1650
X-WR-TIMEZONE:America/Chicago
BEGIN:VTIMEZONE
TZID:America/Chicago
BEGIN:STANDARD
TZNAME:CST
DTSTART:20181104T020000
TZOFFSETFROM:-0500
TZOFFSETTO:-0600
RDATE:20191103T020000
END:STANDARD
BEGIN:DAYLIGHT
TZNAME:CDT
DTSTART:20180311T020000
TZOFFSETFROM:-0600
TZOFFSETTO:-0500
RDATE:20190310T020000
RDATE:20200308T020000
END:DAYLIGHT
END:VTIMEZONE
BEGIN:VEVENT
UID:d8414dda-bd0e-433f-b1a5-a36591efbe7b
DTSTAMP:20260421T142353Z
DESCRIPTION:
DTSTART;TZID=America/Chicago:20181207T170000
DTEND;TZID=America/Chicago:20181207T223000
LOCATION:
SUMMARY:Night of Lights
END:VEVENT
END:VCALENDAR
