BEGIN:VCALENDAR
VERSION:2.0
PRODID:-//saundersmedicalcenter.com//NONSGML kigkonsult.se iCalcreator 2.30
 .10//
CALSCALE:GREGORIAN
METHOD:PUBLISH
UID:3604e426-9929-4bf7-b93e-bc823774e0bd
X-WR-CALDESC:The Ultimate One-Stop Trick or Treating Event!\nBOO IN WAHOO i
 s sponsored by:\nWahoo Chamber of Commerce & Saunders Medical Center\nCost
 ume Contest\nGrab & Go Sack Lunches provided by Saunders Health Services F
 oundation\nFree Admission!\nEvery child will receive a treat bag!\nTrick o
 r Treat at 30+ Participating\nPartners!\nSMC Long Term Care residents will
  also be handing out treats!\nSee You at Saunders Medical Center!
X-WR-RELCALID:c7c28b390e77f1ffbe47b7ff2a378c63
X-WR-TIMEZONE:America/Chicago
BEGIN:VTIMEZONE
TZID:America/Chicago
BEGIN:STANDARD
TZNAME:CST
DTSTART:20171105T020000
TZOFFSETFROM:-0500
TZOFFSETTO:-0600
RDATE:20181104T020000
RDATE:20191103T020000
END:STANDARD
BEGIN:DAYLIGHT
TZNAME:CDT
DTSTART:20180311T020000
TZOFFSETFROM:-0600
TZOFFSETTO:-0500
RDATE:20190310T020000
RDATE:20200308T020000
END:DAYLIGHT
END:VTIMEZONE
BEGIN:VEVENT
UID:3139b7d9-e526-49b7-8328-44348e721185
DTSTAMP:20260421T172843Z
DESCRIPTION:The Ultimate One-Stop Trick or Treating Event!\nBOO IN WAHOO is
  sponsored by:\nWahoo Chamber of Commerce & Saunders Medical Center\nCostu
 me Contest\nGrab & Go Sack Lunches provided by Saunders Health Services Fo
 undation\nFree Admission!\nEvery child will receive a treat bag!\nTrick or
  Treat at 30+ Participating\nPartners!\nSMC Long Term Care residents will 
 also be handing out treats!\nSee You at Saunders Medical Center!
DTSTART;TZID=America/Chicago:20181031T153000
DTEND;TZID=America/Chicago:20181031T180000
LOCATION:Saunders Medical Center
SUMMARY:BOO In Wahoo
END:VEVENT
END:VCALENDAR
