BEGIN:VCALENDAR
VERSION:2.0
PRODID:-//saundersmedicalcenter.com//NONSGML kigkonsult.se iCalcreator 2.30
 .10//
CALSCALE:GREGORIAN
METHOD:PUBLISH
UID:0e86a433-65d6-492a-81a6-7b3ffab071d4
X-WR-CALDESC:
X-WR-RELCALID:1982210bbd3c5eaa700186aabe29f299
X-WR-TIMEZONE:America/Chicago
BEGIN:VTIMEZONE
TZID:America/Chicago
BEGIN:STANDARD
TZNAME:CST
DTSTART:20171105T020000
TZOFFSETFROM:-0500
TZOFFSETTO:-0600
RDATE:20181104T020000
RDATE:20191103T020000
END:STANDARD
BEGIN:DAYLIGHT
TZNAME:CDT
DTSTART:20180311T020000
TZOFFSETFROM:-0600
TZOFFSETTO:-0500
RDATE:20190310T020000
RDATE:20200308T020000
END:DAYLIGHT
END:VTIMEZONE
BEGIN:VEVENT
UID:4e7696b7-8445-4dab-9591-771efdde20e4
DTSTAMP:20260421T173317Z
DESCRIPTION:
DTSTART;TZID=America/Chicago:20181028T170000
DTEND;TZID=America/Chicago:20181028T180000
LOCATION:Dr. John E. Hansen\, Jr. Conference Center at Saunders Medical Cen
 ter
SUMMARY:Concussion Discussion
END:VEVENT
END:VCALENDAR
