BEGIN:VCALENDAR
VERSION:2.0
PRODID:-//saundersmedicalcenter.com//NONSGML kigkonsult.se iCalcreator 2.30
 .10//
CALSCALE:GREGORIAN
METHOD:PUBLISH
UID:0cf4dc1d-84cb-48a5-939d-cb5afebc7bdb
X-WR-CALDESC:TOPICS COVERED:\nWhat is Diabetes? Type 1 and Type 2 \nHow to 
 treat high and low sugar levels\nDiet & Meal Planning \nMonitoring your gl
 ucose at home \nMaintaining overall health with diabetes \nMedications & E
 xercise \n\n\nWe encourage ANYONE interested to attend. They can be a fami
 ly member of someone with diabetes/spouse/caregiver\, have pre-diabetes or
  diabetes\, and anyone wanting to learn more. \n\nFREE class. NO RSVP need
 ed. Join us at the SMC Board Room.\nHeld the 4th Monday of each month!\n
X-WR-RELCALID:5466d3c69f4c5ca04bda2dd491d0d6e8
X-WR-TIMEZONE:America/Chicago
BEGIN:VTIMEZONE
TZID:America/Chicago
BEGIN:STANDARD
TZNAME:CST
DTSTART:20171105T020000
TZOFFSETFROM:-0500
TZOFFSETTO:-0600
RDATE:20181104T020000
RDATE:20191103T020000
END:STANDARD
BEGIN:DAYLIGHT
TZNAME:CDT
DTSTART:20180311T020000
TZOFFSETFROM:-0600
TZOFFSETTO:-0500
RDATE:20190310T020000
RDATE:20200308T020000
END:DAYLIGHT
END:VTIMEZONE
BEGIN:VEVENT
UID:f6e5161c-e45e-4240-a88f-d2a40e64aba2
DTSTAMP:20260421T172710Z
DESCRIPTION:TOPICS COVERED:\nWhat is Diabetes? Type 1 and Type 2 \nHow to t
 reat high and low sugar levels\nDiet & Meal Planning \nMonitoring your glu
 cose at home \nMaintaining overall health with diabetes \nMedications & Ex
 ercise \n\n\nWe encourage ANYONE interested to attend. They can be a famil
 y member of someone with diabetes/spouse/caregiver\, have pre-diabetes or 
 diabetes\, and anyone wanting to learn more. \n\nFREE class. NO RSVP neede
 d. Join us at the SMC Board Room.\nHeld the 4th Monday of each month!\n
DTSTART;TZID=America/Chicago:20181022T133000
DTEND;TZID=America/Chicago:20181022T143000
LOCATION:SMC's Board Room
SUMMARY:Diabetes Education Class by Certified Diabetic Educator
END:VEVENT
END:VCALENDAR
