BEGIN:VCALENDAR
VERSION:2.0
PRODID:-//saundersmedicalcenter.com//NONSGML kigkonsult.se iCalcreator 2.30
 .10//
CALSCALE:GREGORIAN
METHOD:PUBLISH
UID:e371c808-d173-49e3-a13d-e9c502726217
X-WR-CALDESC:
X-WR-RELCALID:bd637862fdb83ef23543f6cfff606852
X-WR-TIMEZONE:America/Chicago
BEGIN:VTIMEZONE
TZID:America/Chicago
BEGIN:STANDARD
TZNAME:CST
DTSTART:20171105T020000
TZOFFSETFROM:-0500
TZOFFSETTO:-0600
RDATE:20181104T020000
RDATE:20191103T020000
END:STANDARD
BEGIN:DAYLIGHT
TZNAME:CDT
DTSTART:20180311T020000
TZOFFSETFROM:-0600
TZOFFSETTO:-0500
RDATE:20190310T020000
RDATE:20200308T020000
END:DAYLIGHT
END:VTIMEZONE
BEGIN:VEVENT
UID:551d19c0-9be8-49a9-b293-51edffa7ff72
DTSTAMP:20260421T172435Z
DESCRIPTION:
DTSTART;TZID=America/Chicago:20181019T090000
DTEND;TZID=America/Chicago:20181019T150000
LOCATION:
SUMMARY:Blood Drive
END:VEVENT
END:VCALENDAR
