BEGIN:VCALENDAR
VERSION:2.0
PRODID:-//saundersmedicalcenter.com//NONSGML kigkonsult.se iCalcreator 2.30
 .10//
CALSCALE:GREGORIAN
METHOD:PUBLISH
UID:4c1e7cae-1582-4f31-b9fc-d544ea8f1925
X-WR-CALDESC:\nNutrition & Healthy Habits\nFREE Class | Learn All About Nut
 rition!\n\nWednesday\, March 28 at 7pm\nActive Adults\, Teens & Their Pare
 nts—\nLearn about Body Composition vs. Weight | Healthy Eating & Nutrition
  Information | Supplements\, Q&A & more!\n\nGuest Speaker | Rachel Hall\, 
 ATC\n<b>Call 402 443-1426 today to RSVP!</b>\nSign up by March 21 for raff
 le entry Prize is Edge Gift Certificate!
X-WR-RELCALID:71858b68c555b4dca8a4baa97a879a2f
X-WR-TIMEZONE:America/Chicago
BEGIN:VTIMEZONE
TZID:America/Chicago
BEGIN:STANDARD
TZNAME:CST
DTSTART:20171105T020000
TZOFFSETFROM:-0500
TZOFFSETTO:-0600
RDATE:20181104T020000
END:STANDARD
BEGIN:DAYLIGHT
TZNAME:CDT
DTSTART:20180311T020000
TZOFFSETFROM:-0600
TZOFFSETTO:-0500
RDATE:20190310T020000
END:DAYLIGHT
END:VTIMEZONE
BEGIN:VEVENT
UID:38a824a6-ac2b-4d57-bf42-5cadb9382ff4
DTSTAMP:20260422T041122Z
DESCRIPTION:\nNutrition & Healthy Habits\nFREE Class | Learn All About Nutr
 ition!\n\nWednesday\, March 28 at 7pm\nActive Adults\, Teens & Their Paren
 ts—\nLearn about Body Composition vs. Weight | Healthy Eating & Nutrition 
 Information | Supplements\, Q&A & more!\n\nGuest Speaker | Rachel Hall\, A
 TC\n<b>Call 402 443-1426 today to RSVP!</b>\nSign up by March 21 for raffl
 e entry Prize is Edge Gift Certificate!
DTSTART;TZID=America/Chicago:20180328T190000
DTEND;TZID=America/Chicago:20180328T200000
LOCATION:SMC - Hansen Room
SUMMARY:Nutrition FREE Class | Rachel Hall\, ATC
END:VEVENT
END:VCALENDAR
