BEGIN:VCALENDAR
VERSION:2.0
PRODID:-//saundersmedicalcenter.com//NONSGML kigkonsult.se iCalcreator 2.30
 .10//
CALSCALE:GREGORIAN
METHOD:PUBLISH
UID:338aafc4-ebd8-4ab8-ba8f-b9985afd9ce0
X-WR-CALDESC:https://saundersmedicalcenter.com/about-us/events/prevent-colo
 n-cancer.html
X-WR-RELCALID:3516a528971034b9b8c5f055317a5ba9
X-WR-TIMEZONE:America/Chicago
BEGIN:VTIMEZONE
TZID:America/Chicago
BEGIN:STANDARD
TZNAME:CST
DTSTART:20171105T020000
TZOFFSETFROM:-0500
TZOFFSETTO:-0600
RDATE:20181104T020000
END:STANDARD
BEGIN:DAYLIGHT
TZNAME:CDT
DTSTART:20180311T020000
TZOFFSETFROM:-0600
TZOFFSETTO:-0500
RDATE:20190310T020000
END:DAYLIGHT
END:VTIMEZONE
BEGIN:VEVENT
UID:7cb07d7c-a794-4505-9bcd-b75f22c6ebea
DTSTAMP:20260422T040546Z
DESCRIPTION:https://saundersmedicalcenter.com/about-us/events/prevent-colon
 -cancer.html
DTSTART;TZID=America/Chicago:20180316T000000
DTEND;TZID=America/Chicago:20180316T235900
LOCATION:
SUMMARY:Wear Blue | Colon Cancer Awareness
END:VEVENT
END:VCALENDAR
