BEGIN:VCALENDAR
VERSION:2.0
PRODID:-//saundersmedicalcenter.com//NONSGML kigkonsult.se iCalcreator 2.30
 .10//
CALSCALE:GREGORIAN
METHOD:PUBLISH
UID:a25afc38-2c35-48b4-80df-1198d0838fd2
X-WR-CALDESC:elp save lives by making an appointment to give blood\nGive bl
 ood Friday\, March 9 from 9am-3pm at Saunders Medical Center.\n\nVisit www
 .RedCrossBlood.Org to register!\n\nIf you are coming to donate\, stop in H
 ansen Room A&B at Saunders Medical Center. Thank you for giving the gift o
 f life!\n\n
X-WR-RELCALID:237672487fa8de80ee79761995dd771e
X-WR-TIMEZONE:America/Chicago
BEGIN:VTIMEZONE
TZID:America/Chicago
BEGIN:STANDARD
TZNAME:CST
DTSTART:20171105T020000
TZOFFSETFROM:-0500
TZOFFSETTO:-0600
RDATE:20181104T020000
END:STANDARD
BEGIN:DAYLIGHT
TZNAME:CDT
DTSTART:20170312T020000
TZOFFSETFROM:-0600
TZOFFSETTO:-0500
RDATE:20180311T020000
RDATE:20190310T020000
END:DAYLIGHT
END:VTIMEZONE
BEGIN:VEVENT
UID:178432a8-3dc1-4ced-b882-79de49f8cb53
DTSTAMP:20260422T040438Z
DESCRIPTION:elp save lives by making an appointment to give blood\nGive blo
 od Friday\, March 9 from 9am-3pm at Saunders Medical Center.\n\nVisit www.
 RedCrossBlood.Org to register!\n\nIf you are coming to donate\, stop in Ha
 nsen Room A&B at Saunders Medical Center. Thank you for giving the gift of
  life!\n\n
DTSTART;TZID=America/Chicago:20180309T090000
DTEND;TZID=America/Chicago:20180309T150000
LOCATION:
SUMMARY:Blood Drive | American Red Cross
END:VEVENT
END:VCALENDAR
